BEGIN:VCALENDAR
VERSION:2.0
PRODID:-//Cretin Class of 1963 - ECPv6.15.18//NONSGML v1.0//EN
CALSCALE:GREGORIAN
METHOD:PUBLISH
X-WR-CALNAME:Cretin Class of 1963
X-ORIGINAL-URL:https://cretinclassof1963.org
X-WR-CALDESC:Events for Cretin Class of 1963
REFRESH-INTERVAL;VALUE=DURATION:PT1H
X-Robots-Tag:noindex
X-PUBLISHED-TTL:PT1H
BEGIN:VTIMEZONE
TZID:America/Chicago
BEGIN:DAYLIGHT
TZOFFSETFROM:-0600
TZOFFSETTO:-0500
TZNAME:CDT
DTSTART:20240310T080000
END:DAYLIGHT
BEGIN:STANDARD
TZOFFSETFROM:-0500
TZOFFSETTO:-0600
TZNAME:CST
DTSTART:20241103T070000
END:STANDARD
BEGIN:DAYLIGHT
TZOFFSETFROM:-0600
TZOFFSETTO:-0500
TZNAME:CDT
DTSTART:20250309T080000
END:DAYLIGHT
BEGIN:STANDARD
TZOFFSETFROM:-0500
TZOFFSETTO:-0600
TZNAME:CST
DTSTART:20251102T070000
END:STANDARD
BEGIN:DAYLIGHT
TZOFFSETFROM:-0600
TZOFFSETTO:-0500
TZNAME:CDT
DTSTART:20260308T080000
END:DAYLIGHT
BEGIN:STANDARD
TZOFFSETFROM:-0500
TZOFFSETTO:-0600
TZNAME:CST
DTSTART:20261101T070000
END:STANDARD
BEGIN:DAYLIGHT
TZOFFSETFROM:-0600
TZOFFSETTO:-0500
TZNAME:CDT
DTSTART:20270314T080000
END:DAYLIGHT
BEGIN:STANDARD
TZOFFSETFROM:-0500
TZOFFSETTO:-0600
TZNAME:CST
DTSTART:20271107T070000
END:STANDARD
END:VTIMEZONE
BEGIN:VEVENT
DTSTART;TZID=America/Chicago:20251113T113000
DTEND;TZID=America/Chicago:20251113T133000
DTSTAMP:20260425T232346
CREATED:20251015T132725Z
LAST-MODIFIED:20251015T132725Z
UID:2911-1763033400-1763040600@cretinclassof1963.org
SUMMARY:November Class Luncheon
DESCRIPTION:
URL:https://cretinclassof1963.org/event/november-class-luncheon-4/
LOCATION:Pool and Yacht Club\, 1600 Lilydale Road\, Lilydale\, MN\, 55118\, United States
END:VEVENT
BEGIN:VEVENT
DTSTART;TZID=America/Chicago:20251211T113000
DTEND;TZID=America/Chicago:20251211T133000
DTSTAMP:20260425T232346
CREATED:20251114T160052Z
LAST-MODIFIED:20251114T160052Z
UID:2960-1765452600-1765459800@cretinclassof1963.org
SUMMARY:December Class Luncheon
DESCRIPTION:
URL:https://cretinclassof1963.org/event/december-class-luncheon-3/
LOCATION:Pool and Yacht Club\, 1600 Lilydale Road\, Lilydale\, MN\, 55118\, United States
END:VEVENT
BEGIN:VEVENT
DTSTART;TZID=America/Chicago:20260108T113000
DTEND;TZID=America/Chicago:20260108T133000
DTSTAMP:20260425T232346
CREATED:20251212T164508Z
LAST-MODIFIED:20251212T164508Z
UID:2969-1767871800-1767879000@cretinclassof1963.org
SUMMARY:January Class Luncheoon
DESCRIPTION:
URL:https://cretinclassof1963.org/event/january-class-luncheoon/
LOCATION:Pool and Yacht Club\, 1600 Lilydale Road\, Lilydale\, MN\, 55118\, United States
END:VEVENT
BEGIN:VEVENT
DTSTART;TZID=America/Chicago:20260212T113000
DTEND;TZID=America/Chicago:20260212T133000
DTSTAMP:20260425T232346
CREATED:20260109T222335Z
LAST-MODIFIED:20260109T222335Z
UID:3002-1770895800-1770903000@cretinclassof1963.org
SUMMARY:February Class Luncheon
DESCRIPTION:
URL:https://cretinclassof1963.org/event/february-class-luncheon-3/
LOCATION:Pool and Yacht Club\, 1600 Lilydale Road\, Lilydale\, MN\, 55118\, United States
END:VEVENT
BEGIN:VEVENT
DTSTART;TZID=America/Chicago:20260409T113000
DTEND;TZID=America/Chicago:20260409T133000
DTSTAMP:20260425T232346
CREATED:20260313T170715Z
LAST-MODIFIED:20260313T170715Z
UID:3046-1775734200-1775741400@cretinclassof1963.org
SUMMARY:April 2026 Class Luncheon
DESCRIPTION:
URL:https://cretinclassof1963.org/event/april-2026-class-luncheon/
LOCATION:Pool and Yacht Club\, 1600 Lilydale Road\, Lilydale\, MN\, 55118\, United States
END:VEVENT
BEGIN:VEVENT
DTSTART;TZID=America/Chicago:20260514T113000
DTEND;TZID=America/Chicago:20260514T133000
DTSTAMP:20260425T232346
CREATED:20260413T130553Z
LAST-MODIFIED:20260413T130553Z
UID:3068-1778758200-1778765400@cretinclassof1963.org
SUMMARY:May Class Luncheon
DESCRIPTION:
URL:https://cretinclassof1963.org/event/may-class-luncheon/
LOCATION:Pool and Yacht Club\, 1600 Lilydale Road\, Lilydale\, MN\, 55118\, United States
END:VEVENT
BEGIN:VEVENT
DTSTART;TZID=America/Chicago:20260812T090000
DTEND;TZID=America/Chicago:20260812T160000
DTSTAMP:20260425T232346
CREATED:20260324T203535Z
LAST-MODIFIED:20260413T131123Z
UID:3049-1786525200-1786550400@cretinclassof1963.org
SUMMARY:Annual Class Golf Outing - "The Charlie"
DESCRIPTION:
URL:https://cretinclassof1963.org/event/annual-class-golf-outing-the-charlie/
LOCATION:Highland National Golf Course\, 1403 Montreal Avenue\, St. Paul\, MN\, 55116\, United States
END:VEVENT
END:VCALENDAR