BEGIN:VCALENDAR
VERSION:2.0
PRODID:-//Cretin Class of 1963 - ECPv6.15.18//NONSGML v1.0//EN
CALSCALE:GREGORIAN
METHOD:PUBLISH
X-WR-CALNAME:Cretin Class of 1963
X-ORIGINAL-URL:https://cretinclassof1963.org
X-WR-CALDESC:Events for Cretin Class of 1963
REFRESH-INTERVAL;VALUE=DURATION:PT1H
X-Robots-Tag:noindex
X-PUBLISHED-TTL:PT1H
BEGIN:VTIMEZONE
TZID:America/Chicago
BEGIN:DAYLIGHT
TZOFFSETFROM:-0600
TZOFFSETTO:-0500
TZNAME:CDT
DTSTART:20200308T080000
END:DAYLIGHT
BEGIN:STANDARD
TZOFFSETFROM:-0500
TZOFFSETTO:-0600
TZNAME:CST
DTSTART:20201101T070000
END:STANDARD
BEGIN:DAYLIGHT
TZOFFSETFROM:-0600
TZOFFSETTO:-0500
TZNAME:CDT
DTSTART:20210314T080000
END:DAYLIGHT
BEGIN:STANDARD
TZOFFSETFROM:-0500
TZOFFSETTO:-0600
TZNAME:CST
DTSTART:20211107T070000
END:STANDARD
BEGIN:DAYLIGHT
TZOFFSETFROM:-0600
TZOFFSETTO:-0500
TZNAME:CDT
DTSTART:20220313T080000
END:DAYLIGHT
BEGIN:STANDARD
TZOFFSETFROM:-0500
TZOFFSETTO:-0600
TZNAME:CST
DTSTART:20221106T070000
END:STANDARD
BEGIN:DAYLIGHT
TZOFFSETFROM:-0600
TZOFFSETTO:-0500
TZNAME:CDT
DTSTART:20230312T080000
END:DAYLIGHT
BEGIN:STANDARD
TZOFFSETFROM:-0500
TZOFFSETTO:-0600
TZNAME:CST
DTSTART:20231105T070000
END:STANDARD
BEGIN:DAYLIGHT
TZOFFSETFROM:-0600
TZOFFSETTO:-0500
TZNAME:CDT
DTSTART:20240310T080000
END:DAYLIGHT
BEGIN:STANDARD
TZOFFSETFROM:-0500
TZOFFSETTO:-0600
TZNAME:CST
DTSTART:20241103T070000
END:STANDARD
END:VTIMEZONE
BEGIN:VEVENT
DTSTART;TZID=America/Chicago:20231109T113000
DTEND;TZID=America/Chicago:20231109T133000
DTSTAMP:20260425T203126
CREATED:20231026T134916Z
LAST-MODIFIED:20231026T134916Z
UID:1953-1699529400-1699536600@cretinclassof1963.org
SUMMARY:November Monthly  Class Luncheon
DESCRIPTION:
URL:https://cretinclassof1963.org/event/november-monthly-class-luncheon/
LOCATION:Pool and Yacht Club\, 1600 Lilydale Road\, Lilydale\, MN\, 55118\, United States
END:VEVENT
BEGIN:VEVENT
DTSTART;TZID=America/Chicago:20231012T113000
DTEND;TZID=America/Chicago:20231012T133000
DTSTAMP:20260425T203126
CREATED:20230927T203807Z
LAST-MODIFIED:20230927T203807Z
UID:1926-1697110200-1697117400@cretinclassof1963.org
SUMMARY:October Class Luncheon
DESCRIPTION:
URL:https://cretinclassof1963.org/event/october-class-luncheon/
LOCATION:Pool and Yacht Club\, 1600 Lilydale Road\, Lilydale\, MN\, 55118\, United States
END:VEVENT
BEGIN:VEVENT
DTSTART;TZID=America/Chicago:20230915T180000
DTEND;TZID=America/Chicago:20230915T210000
DTSTAMP:20260425T203126
CREATED:20230518T161501Z
LAST-MODIFIED:20230518T161501Z
UID:1699-1694800800-1694811600@cretinclassof1963.org
SUMMARY:Cretin-Derham Hall vs. St. Thomas Academy Football Game
DESCRIPTION:
URL:https://cretinclassof1963.org/event/cretin-derham-hall-vs-st-thomas-academy-football-game/
LOCATION:Twin Cities Orthopedics Center\, 2600 Vikings Cir\, Eagan\, MN\, 55121\, United States
END:VEVENT
BEGIN:VEVENT
DTSTART;TZID=America/Chicago:20230914T170000
DTEND;TZID=America/Chicago:20230914T210000
DTSTAMP:20260425T203126
CREATED:20230419T143230Z
LAST-MODIFIED:20230717T152446Z
UID:1690-1694710800-1694725200@cretinclassof1963.org
SUMMARY:60th Class Reunion - Dinner at CDH
DESCRIPTION:
URL:https://cretinclassof1963.org/event/60th-class-reunion-dinner-at-cdh/
LOCATION:Cretin-Derham Hall\, Joe Mauer Field House\, 550 S. Albert Street\, Saint Paul\, MN\, 55116\, United States
END:VEVENT
BEGIN:VEVENT
DTSTART;TZID=America/Chicago:20230914T093000
DTEND;TZID=America/Chicago:20230914T150000
DTSTAMP:20260425T203126
CREATED:20230419T142740Z
LAST-MODIFIED:20230717T153025Z
UID:1683-1694683800-1694703600@cretinclassof1963.org
SUMMARY:60th Class Reunion - Golf Outing at Highland National GC
DESCRIPTION:
URL:https://cretinclassof1963.org/event/60th-class-reunion-golf-outing-at-highland-national-gc/
LOCATION:Highland National Golf Course\, 1403 Montreal Avenue\, St. Paul\, MN\, 55116\, United States
END:VEVENT
BEGIN:VEVENT
DTSTART;TZID=America/Chicago:20230913T113000
DTEND;TZID=America/Chicago:20230913T133000
DTSTAMP:20260425T203126
CREATED:20230626T161431Z
LAST-MODIFIED:20230717T152647Z
UID:1736-1694604600-1694611800@cretinclassof1963.org
SUMMARY:60th Class Reunion - Private Lunch and Tour of CDH for Class of 1963
DESCRIPTION:Tour of new facilities\, updates on current academic environment followed by lunch provided by CDH
URL:https://cretinclassof1963.org/event/private-lunch-and-tour-of-cdh-for-class-of-1963/
LOCATION:Cretin-Derham Hall HS\, 550 South Albert Street\, St. Paul\, MN\, 55116\, United States
END:VEVENT
BEGIN:VEVENT
DTSTART;TZID=America/Chicago:20230913T100000
DTEND;TZID=America/Chicago:20230913T110000
DTSTAMP:20260425T203126
CREATED:20230419T141437Z
LAST-MODIFIED:20230516T204607Z
UID:1679-1694599200-1694602800@cretinclassof1963.org
SUMMARY:60th Class Reunion - Mass of Remembrance for Deceased Classmates
DESCRIPTION:
URL:https://cretinclassof1963.org/event/60th-reunion-mass-of-remembrance-for-deceased-classmates/
LOCATION:CDH Chapel\, 550 South Albert Street\, St. Paul\, MN\, 55116\, United States
END:VEVENT
BEGIN:VEVENT
DTSTART;TZID=America/Chicago:20230713T113000
DTEND;TZID=America/Chicago:20230713T133000
DTSTAMP:20260425T203126
CREATED:20230625T002315Z
LAST-MODIFIED:20230625T002646Z
UID:1718-1689247800-1689255000@cretinclassof1963.org
SUMMARY:July 2023 Class Luncheon
DESCRIPTION:
URL:https://cretinclassof1963.org/event/july-class-luncheon/
LOCATION:Pool and Yacht Club\, 1600 Lilydale Road\, Lilydale\, MN\, 55118\, United States
END:VEVENT
BEGIN:VEVENT
DTSTART;TZID=America/Chicago:20230608T113000
DTEND;TZID=America/Chicago:20230608T133000
DTSTAMP:20260425T203126
CREATED:20230515T205405Z
LAST-MODIFIED:20230515T205405Z
UID:1697-1686223800-1686231000@cretinclassof1963.org
SUMMARY:June 2023 Class Luncheon
DESCRIPTION:
URL:https://cretinclassof1963.org/event/june-2023-class-luncheon/
LOCATION:Pool and Yacht Club\, 1600 Lilydale Road\, Lilydale\, MN\, 55118\, United States
END:VEVENT
BEGIN:VEVENT
DTSTART;TZID=America/Chicago:20230518T113000
DTEND;TZID=America/Chicago:20230518T133000
DTSTAMP:20260425T203126
CREATED:20230419T140955Z
LAST-MODIFIED:20230515T205212Z
UID:1677-1684409400-1684416600@cretinclassof1963.org
SUMMARY:May 2023 Class Luncheon-CANCELED DUE TO REFLOODING-NO LUNCHEON WILL BE HELD IN MAY!
DESCRIPTION:May luncheon is being moved back a week since the Pool and Yacht Club is closed until May 13 due to flooding.
URL:https://cretinclassof1963.org/event/may-2023-class-luncheon/
LOCATION:Pool and Yacht Club\, 1600 Lilydale Road\, Lilydale\, MN\, 55118\, United States
END:VEVENT
BEGIN:VEVENT
DTSTART;TZID=America/Chicago:20230413T113000
DTEND;TZID=America/Chicago:20230413T133000
DTSTAMP:20260425T203126
CREATED:20230317T160950Z
LAST-MODIFIED:20230317T160950Z
UID:1661-1681385400-1681392600@cretinclassof1963.org
SUMMARY:April 2023 Class Luncheon
DESCRIPTION:
URL:https://cretinclassof1963.org/event/april-2023-class-luncheon/
LOCATION:Pool and Yacht Club\, 1600 Lilydale Road\, Lilydale\, MN\, 55118\, United States
END:VEVENT
BEGIN:VEVENT
DTSTART;TZID=America/Chicago:20230326T140000
DTEND;TZID=America/Chicago:20230326T170000
DTSTAMP:20260425T203126
CREATED:20230317T160627Z
LAST-MODIFIED:20230317T160627Z
UID:1657-1679839200-1679850000@cretinclassof1963.org
SUMMARY:Vietnam Veterans Day Gathering
DESCRIPTION:
URL:https://cretinclassof1963.org/event/vietnam-veterans-day-gathering/
LOCATION:Forest Lake American Legion Post #225\, 335 West Broadway\, Forest Lake\, MN\, 55025\, United States
END:VEVENT
BEGIN:VEVENT
DTSTART;TZID=America/Chicago:20230309T113000
DTEND;TZID=America/Chicago:20230309T133000
DTSTAMP:20260425T203126
CREATED:20230217T191247Z
LAST-MODIFIED:20230217T191247Z
UID:1633-1678361400-1678368600@cretinclassof1963.org
SUMMARY:March 2023 Class Luncheon
DESCRIPTION:
URL:https://cretinclassof1963.org/event/march-2023-class-luncheon/
LOCATION:Pool and Yacht Club\, 1600 Lilydale Road\, Lilydale\, MN\, 55118\, United States
END:VEVENT
BEGIN:VEVENT
DTSTART;TZID=America/Chicago:20230112T113000
DTEND;TZID=America/Chicago:20230112T133000
DTSTAMP:20260425T203126
CREATED:20221209T000021Z
LAST-MODIFIED:20221209T000021Z
UID:1579-1673523000-1673530200@cretinclassof1963.org
SUMMARY:January 2023 Luncheon
DESCRIPTION:
URL:https://cretinclassof1963.org/event/january-2023-luncheon/
LOCATION:Pool and Yacht Club\, 1600 Lilydale Road\, Lilydale\, MN\, 55118\, United States
END:VEVENT
BEGIN:VEVENT
DTSTART;TZID=America/Chicago:20221208T113000
DTEND;TZID=America/Chicago:20221208T133000
DTSTAMP:20260425T203126
CREATED:20221110T222116Z
LAST-MODIFIED:20221110T222200Z
UID:1554-1670499000-1670506200@cretinclassof1963.org
SUMMARY:December 2022 Class Luncheon
DESCRIPTION:
URL:https://cretinclassof1963.org/event/december-class-luncheon/
LOCATION:Pool and Yacht Club\, 1600 Lilydale Road\, Lilydale\, MN\, 55118\, United States
END:VEVENT
BEGIN:VEVENT
DTSTART;TZID=America/Chicago:20221110T113000
DTEND;TZID=America/Chicago:20221110T133000
DTSTAMP:20260425T203126
CREATED:20221014T001008Z
LAST-MODIFIED:20221014T001008Z
UID:1547-1668079800-1668087000@cretinclassof1963.org
SUMMARY:November 2022 Luncheon
DESCRIPTION:
URL:https://cretinclassof1963.org/event/november-2022-luncheon/
LOCATION:Pool and Yacht Club\, 1600 Lilydale Road\, Lilydale\, MN\, 55118\, United States
END:VEVENT
BEGIN:VEVENT
DTSTART;TZID=America/Chicago:20221013T113000
DTEND;TZID=America/Chicago:20221013T133000
DTSTAMP:20260425T203126
CREATED:20220910T191528Z
LAST-MODIFIED:20220910T191532Z
UID:1536-1665660600-1665667800@cretinclassof1963.org
SUMMARY:October 2022 Luncheon
DESCRIPTION:
URL:https://cretinclassof1963.org/event/october-2022-luncheon/
LOCATION:Pool and Yacht Club\, 1600 Lilydale Road\, Lilydale\, MN\, 55118\, United States
END:VEVENT
BEGIN:VEVENT
DTSTART;TZID=America/Chicago:20220916T183000
DTEND;TZID=America/Chicago:20220916T210000
DTSTAMP:20260425T203126
CREATED:20220811T231523Z
LAST-MODIFIED:20220811T231523Z
UID:1527-1663353000-1663362000@cretinclassof1963.org
SUMMARY:CDH - St. Thomas Academy Football Game at St. Thomas Academy
DESCRIPTION:
URL:https://cretinclassof1963.org/event/cdh-st-thomas-academy-football-game-at-st-thomas-academy/
LOCATION:MN
END:VEVENT
BEGIN:VEVENT
DTSTART;TZID=America/Chicago:20220915T173000
DTEND;TZID=America/Chicago:20220915T210000
DTSTAMP:20260425T203126
CREATED:20220811T231318Z
LAST-MODIFIED:20220811T231318Z
UID:1525-1663263000-1663275600@cretinclassof1963.org
SUMMARY:ONE CDH Alumni Gathering
DESCRIPTION:
URL:https://cretinclassof1963.org/event/one-cdh-alumni-gathering/
LOCATION:Cretin-Derham Hall\, Joe Mauer Field House\, 550 S. Albert Street\, Saint Paul\, MN\, 55116\, United States
END:VEVENT
BEGIN:VEVENT
DTSTART;TZID=America/Chicago:20220908T113000
DTEND;TZID=America/Chicago:20220908T133000
DTSTAMP:20260425T203126
CREATED:20220811T231037Z
LAST-MODIFIED:20220811T231137Z
UID:1522-1662636600-1662643800@cretinclassof1963.org
SUMMARY:September 2022 Class Luncheon
DESCRIPTION:
URL:https://cretinclassof1963.org/event/september-2022-luncheon/
LOCATION:Pool and Yacht Club\, 1600 Lilydale Road\, Lilydale\, MN\, 55118\, United States
END:VEVENT
BEGIN:VEVENT
DTSTART;TZID=America/Chicago:20220811T113000
DTEND;TZID=America/Chicago:20220811T133000
DTSTAMP:20260425T203126
CREATED:20220728T225005Z
LAST-MODIFIED:20220728T225226Z
UID:1490-1660217400-1660224600@cretinclassof1963.org
SUMMARY:August 2022 Luncheon
DESCRIPTION:
URL:https://cretinclassof1963.org/event/august-2022-class-luncheon/
LOCATION:Pool and Yacht Club\, 1600 Lilydale Road\, Lilydale\, MN\, 55118\, United States
END:VEVENT
BEGIN:VEVENT
DTSTART;TZID=America/Chicago:20220810T110000
DTEND;TZID=America/Chicago:20220810T170000
DTSTAMP:20260425T203126
CREATED:20220513T151715Z
LAST-MODIFIED:20220513T151715Z
UID:1426-1660129200-1660150800@cretinclassof1963.org
SUMMARY:Annual Golf Outing - "The Charlie"
DESCRIPTION:
URL:https://cretinclassof1963.org/event/annual-golf-outing-the-charlie/
LOCATION:Highland National\, 1403 Montreal Avenue\, Saint Paul\, MN\, 55116\, United States
END:VEVENT
BEGIN:VEVENT
DTSTART;TZID=America/Chicago:20220714T113000
DTEND;TZID=America/Chicago:20220714T133000
DTSTAMP:20260425T203126
CREATED:20220609T221703Z
LAST-MODIFIED:20220609T221703Z
UID:1479-1657798200-1657805400@cretinclassof1963.org
SUMMARY:July 2022 Luncheon
DESCRIPTION:
URL:https://cretinclassof1963.org/event/july-2022-luncheon/
LOCATION:Pool and Yacht Club\, 1600 Lilydale Road\, Lilydale\, MN\, 55118\, United States
END:VEVENT
BEGIN:VEVENT
DTSTART;TZID=America/Chicago:20220609T113000
DTEND;TZID=America/Chicago:20220609T133000
DTSTAMP:20260425T203126
CREATED:20220513T151049Z
LAST-MODIFIED:20220513T151049Z
UID:1424-1654774200-1654781400@cretinclassof1963.org
SUMMARY:June 2022 Luncheon
DESCRIPTION:
URL:https://cretinclassof1963.org/event/june-2022-luncheon/
LOCATION:Pool and Yacht Club\, 1600 Lilydale Road\, Lilydale\, MN\, 55118\, United States
END:VEVENT
BEGIN:VEVENT
DTSTART;TZID=America/Chicago:20220512T113000
DTEND;TZID=America/Chicago:20220512T133000
DTSTAMP:20260425T203126
CREATED:20220414T213540Z
LAST-MODIFIED:20220414T213544Z
UID:1393-1652355000-1652362200@cretinclassof1963.org
SUMMARY:May 2022 Luncheon
DESCRIPTION:
URL:https://cretinclassof1963.org/event/may-2022-luncheon/
LOCATION:Pool and Yacht Club\, 1600 Lilydale Road\, Lilydale\, MN\, 55118\, United States
END:VEVENT
BEGIN:VEVENT
DTSTART;TZID=America/Chicago:20220414T113000
DTEND;TZID=America/Chicago:20220414T133000
DTSTAMP:20260425T203126
CREATED:20220311T143538Z
LAST-MODIFIED:20220311T143538Z
UID:1373-1649935800-1649943000@cretinclassof1963.org
SUMMARY:April 2022 Luncheon
DESCRIPTION:
URL:https://cretinclassof1963.org/event/april-2022-luncheon/
LOCATION:Pool and Yacht Club\, 1600 Lilydale Road\, Lilydale\, MN\, 55118\, United States
END:VEVENT
BEGIN:VEVENT
DTSTART;TZID=America/Chicago:20220310T113000
DTEND;TZID=America/Chicago:20220310T133000
DTSTAMP:20260425T203126
CREATED:20220211T213802Z
LAST-MODIFIED:20220211T213802Z
UID:1358-1646911800-1646919000@cretinclassof1963.org
SUMMARY:March 2022 Luncheon
DESCRIPTION:
URL:https://cretinclassof1963.org/event/march-2022-luncheon/
LOCATION:Pool and Yacht Club\, 1600 Lilydale Road\, Lilydale\, MN\, 55118\, United States
END:VEVENT
BEGIN:VEVENT
DTSTART;TZID=America/Chicago:20220210T113000
DTEND;TZID=America/Chicago:20220210T133000
DTSTAMP:20260425T203126
CREATED:20220114T201108Z
LAST-MODIFIED:20220114T201108Z
UID:1315-1644492600-1644499800@cretinclassof1963.org
SUMMARY:February 2022 Luncheon
DESCRIPTION:
URL:https://cretinclassof1963.org/event/february-2022-luncheon/
LOCATION:Pool and Yacht Club\, 1600 Lilydale Road\, Lilydale\, MN\, 55118\, United States
END:VEVENT
BEGIN:VEVENT
DTSTART;TZID=America/Chicago:20220113T113000
DTEND;TZID=America/Chicago:20220113T133000
DTSTAMP:20260425T203126
CREATED:20211220T233411Z
LAST-MODIFIED:20211220T233421Z
UID:1294-1642073400-1642080600@cretinclassof1963.org
SUMMARY:January 2021 Class Luncheon
DESCRIPTION:
URL:https://cretinclassof1963.org/event/january-2021-class-luncheon/
LOCATION:Pool and Yacht Club\, 1600 Lilydale Road\, Lilydale\, MN\, 55118\, United States
END:VEVENT
BEGIN:VEVENT
DTSTART;TZID=America/Chicago:20211209T113000
DTEND;TZID=America/Chicago:20211209T133000
DTSTAMP:20260425T203126
CREATED:20211117T191956Z
LAST-MODIFIED:20211117T192002Z
UID:1259-1639049400-1639056600@cretinclassof1963.org
SUMMARY:December 2021 Class Luncheon
DESCRIPTION:
URL:https://cretinclassof1963.org/event/december-2021-class-luncheon/
LOCATION:Pool and Yacht Club\, 1600 Lilydale Road\, Lilydale\, MN\, 55118\, United States
END:VEVENT
END:VCALENDAR