BEGIN:VCALENDAR
VERSION:2.0
PRODID:-//Cretin Class of 1963 - ECPv6.15.18//NONSGML v1.0//EN
CALSCALE:GREGORIAN
METHOD:PUBLISH
X-WR-CALNAME:Cretin Class of 1963
X-ORIGINAL-URL:https://cretinclassof1963.org
X-WR-CALDESC:Events for Cretin Class of 1963
REFRESH-INTERVAL;VALUE=DURATION:PT1H
X-Robots-Tag:noindex
X-PUBLISHED-TTL:PT1H
BEGIN:VTIMEZONE
TZID:America/Chicago
BEGIN:DAYLIGHT
TZOFFSETFROM:-0600
TZOFFSETTO:-0500
TZNAME:CDT
DTSTART:20180311T080000
END:DAYLIGHT
BEGIN:STANDARD
TZOFFSETFROM:-0500
TZOFFSETTO:-0600
TZNAME:CST
DTSTART:20181104T070000
END:STANDARD
BEGIN:DAYLIGHT
TZOFFSETFROM:-0600
TZOFFSETTO:-0500
TZNAME:CDT
DTSTART:20190310T080000
END:DAYLIGHT
BEGIN:STANDARD
TZOFFSETFROM:-0500
TZOFFSETTO:-0600
TZNAME:CST
DTSTART:20191103T070000
END:STANDARD
BEGIN:DAYLIGHT
TZOFFSETFROM:-0600
TZOFFSETTO:-0500
TZNAME:CDT
DTSTART:20200308T080000
END:DAYLIGHT
BEGIN:STANDARD
TZOFFSETFROM:-0500
TZOFFSETTO:-0600
TZNAME:CST
DTSTART:20201101T070000
END:STANDARD
BEGIN:DAYLIGHT
TZOFFSETFROM:-0600
TZOFFSETTO:-0500
TZNAME:CDT
DTSTART:20210314T080000
END:DAYLIGHT
BEGIN:STANDARD
TZOFFSETFROM:-0500
TZOFFSETTO:-0600
TZNAME:CST
DTSTART:20211107T070000
END:STANDARD
BEGIN:DAYLIGHT
TZOFFSETFROM:-0600
TZOFFSETTO:-0500
TZNAME:CDT
DTSTART:20220313T080000
END:DAYLIGHT
BEGIN:STANDARD
TZOFFSETFROM:-0500
TZOFFSETTO:-0600
TZNAME:CST
DTSTART:20221106T070000
END:STANDARD
BEGIN:DAYLIGHT
TZOFFSETFROM:-0600
TZOFFSETTO:-0500
TZNAME:CDT
DTSTART:20230312T080000
END:DAYLIGHT
BEGIN:STANDARD
TZOFFSETFROM:-0500
TZOFFSETTO:-0600
TZNAME:CST
DTSTART:20231105T070000
END:STANDARD
END:VTIMEZONE
BEGIN:VEVENT
DTSTART;TZID=America/Chicago:20220810T110000
DTEND;TZID=America/Chicago:20220810T170000
DTSTAMP:20260425T233347
CREATED:20220513T151715Z
LAST-MODIFIED:20220513T151715Z
UID:1426-1660129200-1660150800@cretinclassof1963.org
SUMMARY:Annual Golf Outing - "The Charlie"
DESCRIPTION:
URL:https://cretinclassof1963.org/event/annual-golf-outing-the-charlie/
LOCATION:Highland National\, 1403 Montreal Avenue\, Saint Paul\, MN\, 55116\, United States
END:VEVENT
BEGIN:VEVENT
DTSTART;TZID=America/Chicago:20220714T113000
DTEND;TZID=America/Chicago:20220714T133000
DTSTAMP:20260425T233347
CREATED:20220609T221703Z
LAST-MODIFIED:20220609T221703Z
UID:1479-1657798200-1657805400@cretinclassof1963.org
SUMMARY:July 2022 Luncheon
DESCRIPTION:
URL:https://cretinclassof1963.org/event/july-2022-luncheon/
LOCATION:Pool and Yacht Club\, 1600 Lilydale Road\, Lilydale\, MN\, 55118\, United States
END:VEVENT
BEGIN:VEVENT
DTSTART;TZID=America/Chicago:20220609T113000
DTEND;TZID=America/Chicago:20220609T133000
DTSTAMP:20260425T233347
CREATED:20220513T151049Z
LAST-MODIFIED:20220513T151049Z
UID:1424-1654774200-1654781400@cretinclassof1963.org
SUMMARY:June 2022 Luncheon
DESCRIPTION:
URL:https://cretinclassof1963.org/event/june-2022-luncheon/
LOCATION:Pool and Yacht Club\, 1600 Lilydale Road\, Lilydale\, MN\, 55118\, United States
END:VEVENT
BEGIN:VEVENT
DTSTART;TZID=America/Chicago:20220512T113000
DTEND;TZID=America/Chicago:20220512T133000
DTSTAMP:20260425T233347
CREATED:20220414T213540Z
LAST-MODIFIED:20220414T213544Z
UID:1393-1652355000-1652362200@cretinclassof1963.org
SUMMARY:May 2022 Luncheon
DESCRIPTION:
URL:https://cretinclassof1963.org/event/may-2022-luncheon/
LOCATION:Pool and Yacht Club\, 1600 Lilydale Road\, Lilydale\, MN\, 55118\, United States
END:VEVENT
BEGIN:VEVENT
DTSTART;TZID=America/Chicago:20220414T113000
DTEND;TZID=America/Chicago:20220414T133000
DTSTAMP:20260425T233347
CREATED:20220311T143538Z
LAST-MODIFIED:20220311T143538Z
UID:1373-1649935800-1649943000@cretinclassof1963.org
SUMMARY:April 2022 Luncheon
DESCRIPTION:
URL:https://cretinclassof1963.org/event/april-2022-luncheon/
LOCATION:Pool and Yacht Club\, 1600 Lilydale Road\, Lilydale\, MN\, 55118\, United States
END:VEVENT
BEGIN:VEVENT
DTSTART;TZID=America/Chicago:20220310T113000
DTEND;TZID=America/Chicago:20220310T133000
DTSTAMP:20260425T233347
CREATED:20220211T213802Z
LAST-MODIFIED:20220211T213802Z
UID:1358-1646911800-1646919000@cretinclassof1963.org
SUMMARY:March 2022 Luncheon
DESCRIPTION:
URL:https://cretinclassof1963.org/event/march-2022-luncheon/
LOCATION:Pool and Yacht Club\, 1600 Lilydale Road\, Lilydale\, MN\, 55118\, United States
END:VEVENT
BEGIN:VEVENT
DTSTART;TZID=America/Chicago:20220210T113000
DTEND;TZID=America/Chicago:20220210T133000
DTSTAMP:20260425T233347
CREATED:20220114T201108Z
LAST-MODIFIED:20220114T201108Z
UID:1315-1644492600-1644499800@cretinclassof1963.org
SUMMARY:February 2022 Luncheon
DESCRIPTION:
URL:https://cretinclassof1963.org/event/february-2022-luncheon/
LOCATION:Pool and Yacht Club\, 1600 Lilydale Road\, Lilydale\, MN\, 55118\, United States
END:VEVENT
BEGIN:VEVENT
DTSTART;TZID=America/Chicago:20220113T113000
DTEND;TZID=America/Chicago:20220113T133000
DTSTAMP:20260425T233347
CREATED:20211220T233411Z
LAST-MODIFIED:20211220T233421Z
UID:1294-1642073400-1642080600@cretinclassof1963.org
SUMMARY:January 2021 Class Luncheon
DESCRIPTION:
URL:https://cretinclassof1963.org/event/january-2021-class-luncheon/
LOCATION:Pool and Yacht Club\, 1600 Lilydale Road\, Lilydale\, MN\, 55118\, United States
END:VEVENT
BEGIN:VEVENT
DTSTART;TZID=America/Chicago:20211209T113000
DTEND;TZID=America/Chicago:20211209T133000
DTSTAMP:20260425T233347
CREATED:20211117T191956Z
LAST-MODIFIED:20211117T192002Z
UID:1259-1639049400-1639056600@cretinclassof1963.org
SUMMARY:December 2021 Class Luncheon
DESCRIPTION:
URL:https://cretinclassof1963.org/event/december-2021-class-luncheon/
LOCATION:Pool and Yacht Club\, 1600 Lilydale Road\, Lilydale\, MN\, 55118\, United States
END:VEVENT
BEGIN:VEVENT
DTSTART;TZID=America/Chicago:20211111T113000
DTEND;TZID=America/Chicago:20211111T133000
DTSTAMP:20260425T233347
CREATED:20211016T230507Z
LAST-MODIFIED:20211016T230513Z
UID:1228-1636630200-1636637400@cretinclassof1963.org
SUMMARY:November 2021 Class Luncheon
DESCRIPTION:
URL:https://cretinclassof1963.org/event/november-2021-class-luncheon/
LOCATION:Pool and Yacht Club\, 1600 Lilydale Road\, Lilydale\, MN\, 55118\, United States
END:VEVENT
BEGIN:VEVENT
DTSTART;TZID=America/Chicago:20211025T180000
DTEND;TZID=America/Chicago:20211025T210000
DTSTAMP:20260425T233347
CREATED:20210928T202459Z
LAST-MODIFIED:20210928T202830Z
UID:1198-1635184800-1635195600@cretinclassof1963.org
SUMMARY:Cretin-Derham Hall Community Awards Dinner
DESCRIPTION:One of the award recipients is our classmate Stephen Nachtsheim!  He is being presented the Bishop Cretin Award.
URL:https://cretinclassof1963.org/event/cretin-derham-hall-community-awards-dinner/
LOCATION:Saint Paul Hotel\, 350 Market Street\, Saint Paul\, MN\, United States
END:VEVENT
BEGIN:VEVENT
DTSTART;TZID=America/Chicago:20211014T113000
DTEND;TZID=America/Chicago:20211014T133000
DTSTAMP:20260425T233347
CREATED:20210912T154758Z
LAST-MODIFIED:20210912T154807Z
UID:1195-1634211000-1634218200@cretinclassof1963.org
SUMMARY:October 2021 Luncheon
DESCRIPTION:
URL:https://cretinclassof1963.org/event/october-2021-luncheon/
LOCATION:Pool and Yacht Club\, 1600 Lilydale Road\, Lilydale\, MN\, 55118\, United States
END:VEVENT
BEGIN:VEVENT
DTSTART;TZID=America/Chicago:20210916T170000
DTEND;TZID=America/Chicago:20210916T210000
DTSTAMP:20260425T233347
CREATED:20210821T202536Z
LAST-MODIFIED:20210831T212548Z
UID:1182-1631811600-1631826000@cretinclassof1963.org
SUMMARY:ONE Cretin-Derham Hall Inaugural All Alumni Event-BEING POSTPONED!
DESCRIPTION:This special event is designed to bring together alumni from Cretin\, Derham Hall and Cretin-Derham Hall! \n  \nUPDATE: Event is being postponed to a later date because of COVID concerns\,
URL:https://cretinclassof1963.org/event/one-cretin-derham-hall-inaugural-all-alumni-event/
LOCATION:Cretin-Derham Hall\, Joe Mauer Field House\, 550 S. Albert Street\, Saint Paul\, MN\, 55116\, United States
END:VEVENT
BEGIN:VEVENT
DTSTART;TZID=America/Chicago:20210909T113000
DTEND;TZID=America/Chicago:20210909T133000
DTSTAMP:20260425T233347
CREATED:20210820T221822Z
LAST-MODIFIED:20210820T221822Z
UID:1169-1631187000-1631194200@cretinclassof1963.org
SUMMARY:September Class Luncheon
DESCRIPTION:
URL:https://cretinclassof1963.org/event/september-class-luncheon/
LOCATION:Pool and Yacht Club\, 1600 Lilydale Road\, Lilydale\, MN\, 55118\, United States
END:VEVENT
BEGIN:VEVENT
DTSTART;TZID=America/Chicago:20210812T113000
DTEND;TZID=America/Chicago:20210812T133000
DTSTAMP:20260425T233347
CREATED:20210616T233508Z
LAST-MODIFIED:20210616T233508Z
UID:1129-1628767800-1628775000@cretinclassof1963.org
SUMMARY:August 2021 Class Luncheon
DESCRIPTION:
URL:https://cretinclassof1963.org/event/august-2021-class-luncheon/
LOCATION:MN
END:VEVENT
BEGIN:VEVENT
DTSTART;TZID=America/Chicago:20210811T110000
DTEND;TZID=America/Chicago:20210811T180000
DTSTAMP:20260425T233347
CREATED:20210515T184007Z
LAST-MODIFIED:20210617T005042Z
UID:1121-1628679600-1628704800@cretinclassof1963.org
SUMMARY:8th Annual Class of '63 Golf Outing ("The Charlie")
DESCRIPTION:The annual golf outing will be held at the River Oaks Golf Course. Tee times have been reserved between 11:30AM and Noon\, Wednesday August 11th
URL:https://cretinclassof1963.org/event/8th-annual-class-of-63-golf-outing-the-charlie/
LOCATION:River Oaks Golf Course\, 11099 Highway 61\, Cottage Grove\, MN\, 55016\, United States
END:VEVENT
BEGIN:VEVENT
DTSTART;TZID=America/Chicago:20210708T113000
DTEND;TZID=America/Chicago:20210708T133000
DTSTAMP:20260425T233347
CREATED:20210616T233208Z
LAST-MODIFIED:20210616T233208Z
UID:1127-1625743800-1625751000@cretinclassof1963.org
SUMMARY:July 2021 Class Luncheon
DESCRIPTION:
URL:https://cretinclassof1963.org/event/july-2021-class-luncheon/
LOCATION:Pool and Yacht Club\, 1600 Lilydale Road\, Lilydale\, MN\, 55118\, United States
END:VEVENT
BEGIN:VEVENT
DTSTART;TZID=America/Chicago:20210610T113000
DTEND;TZID=America/Chicago:20210610T133000
DTSTAMP:20260425T233347
CREATED:20210515T183600Z
LAST-MODIFIED:20210515T183716Z
UID:1119-1623324600-1623331800@cretinclassof1963.org
SUMMARY:June 2021 Class Luncheon
DESCRIPTION:
URL:https://cretinclassof1963.org/event/june-2021-class-luncheon/
LOCATION:Pool and Yacht Club\, 1600 Lilydale Road\, Lilydale\, MN\, 55118\, United States
END:VEVENT
BEGIN:VEVENT
DTSTART;TZID=America/Chicago:20210513T113000
DTEND;TZID=America/Chicago:20210513T133000
DTSTAMP:20260425T233347
CREATED:20210401T171126Z
LAST-MODIFIED:20210401T171330Z
UID:1099-1620905400-1620912600@cretinclassof1963.org
SUMMARY:Monthly Class Luncheons Resume in May - Social Distancing and Masking Protocols will be in Place
DESCRIPTION:
URL:https://cretinclassof1963.org/event/monthly-class-luncheons-resume-in-may-social-distancing-and-masking-protocols-will-be-used/
LOCATION:Pool and Yacht Club\, 1600 Lilydale Road\, Lilydale\, MN\, 55118\, United States
END:VEVENT
BEGIN:VEVENT
DTSTART;TZID=America/Chicago:20201112T113000
DTEND;TZID=America/Chicago:20201112T133000
DTSTAMP:20260425T233347
CREATED:20201010T152153Z
LAST-MODIFIED:20201010T152153Z
UID:913-1605180600-1605187800@cretinclassof1963.org
SUMMARY:November Class Luncheon
DESCRIPTION:The November class luncheon is tentatively scheduled for November 12.
URL:https://cretinclassof1963.org/event/november-class-luncheon/
LOCATION:Pool and Yacht Club\, 1600 Lilydale Road\, Lilydale\, MN\, 55118\, United States
END:VEVENT
BEGIN:VEVENT
DTSTART;TZID=America/Chicago:20201008T113000
DTEND;TZID=America/Chicago:20201008T133000
DTSTAMP:20260425T233347
CREATED:20200930T203902Z
LAST-MODIFIED:20200930T204727Z
UID:895-1602156600-1602163800@cretinclassof1963.org
SUMMARY:Monthly Class Luncheon to Resume in October
DESCRIPTION:Since March 12th the regular class lunch at the Pool and Yacht Club has NOT been held but on Thursday OCT 8th we will have a lunch at the P and Y. \nI have gotten input from many of you about gatherings and I have spoken with the General Manager at the P and Y about their protocols during the pandemic. \nThe P and Y has followed the State and Federal guide lines with distancing\, table arrangements and masks. \nTom Troskey \n 
URL:https://cretinclassof1963.org/event/monthly-class-luncheon-to-resume-in-october/
LOCATION:Pool and Yacht Club\, 1600 Lilydale Road\, Lilydale\, MN\, 55118\, United States
END:VEVENT
BEGIN:VEVENT
DTSTART;TZID=America/Chicago:20200813T113000
DTEND;TZID=America/Chicago:20200813T133000
DTSTAMP:20260425T233347
CREATED:20200313T012448Z
LAST-MODIFIED:20200313T012451Z
UID:788-1597318200-1597325400@cretinclassof1963.org
SUMMARY:George Bonfe Annual Class of '63 Luncheon at his house on Forest Lake
DESCRIPTION:Details and location will be sent to class distribution list by Tom T. a few weeks prior to the event\,
URL:https://cretinclassof1963.org/event/george-bonfe-annual-class-of-63-luncheon-at-his-house-on-forest-lake/
LOCATION:MN
END:VEVENT
BEGIN:VEVENT
DTSTART;TZID=America/Chicago:20200812T080000
DTEND;TZID=America/Chicago:20200812T170000
DTSTAMP:20260425T233347
CREATED:20200313T012135Z
LAST-MODIFIED:20200313T012139Z
UID:786-1597219200-1597251600@cretinclassof1963.org
SUMMARY:Annual Class of '63 Golf Outing  "The Charlie"
DESCRIPTION:Golf course is subject to change
URL:https://cretinclassof1963.org/event/annual-class-of-63-golf-outing-the-charlie/
LOCATION:River Oaks Golf Course\, 11099 Highway 61\, Cottage Grove\, MN\, 55016\, United States
END:VEVENT
BEGIN:VEVENT
DTSTART;TZID=America/Chicago:20200409T113000
DTEND;TZID=America/Chicago:20200409T133000
DTSTAMP:20260425T233347
CREATED:20200313T011933Z
LAST-MODIFIED:20200405T012007Z
UID:784-1586431800-1586439000@cretinclassof1963.org
SUMMARY:April Class Luncheon-Cancelled due to Covad-19 Precautions
DESCRIPTION:Location s subject to change because of seasonal flooding on the Mississippi River which abuts the venue.
URL:https://cretinclassof1963.org/event/april-class-luncheon/
LOCATION:Pool and Yacht Club\, 1600 Lilydale Road\, Lilydale\, MN\, 55118\, United States
END:VEVENT
BEGIN:VEVENT
DTSTART;TZID=America/Chicago:20200312T113000
DTEND;TZID=America/Chicago:20200312T133000
DTSTAMP:20260425T233347
CREATED:20200213T215935Z
LAST-MODIFIED:20200213T215941Z
UID:769-1584012600-1584019800@cretinclassof1963.org
SUMMARY:March Class Luncheon
DESCRIPTION:Lunch location may change because of  Spring flooding.
URL:https://cretinclassof1963.org/event/march-class-luncheon/
LOCATION:Pool and Yacht Club\, 1600 Lilydale Road\, Lilydale\, MN\, 55118\, United States
END:VEVENT
BEGIN:VEVENT
DTSTART;TZID=America/Chicago:20200213T113000
DTEND;TZID=America/Chicago:20200213T133000
DTSTAMP:20260425T233347
CREATED:20200112T203759Z
LAST-MODIFIED:20200112T203759Z
UID:755-1581593400-1581600600@cretinclassof1963.org
SUMMARY:February Class Luncheon
DESCRIPTION:
URL:https://cretinclassof1963.org/event/february-class-luncheon/
LOCATION:Pool and Yacht Club\, 1600 Lilydale Road\, Lilydale\, MN\, 55118\, United States
END:VEVENT
BEGIN:VEVENT
DTSTART;TZID=America/Chicago:20200109T113000
DTEND;TZID=America/Chicago:20200109T133000
DTSTAMP:20260425T233347
CREATED:20191214T171355Z
LAST-MODIFIED:20191214T215714Z
UID:724-1578569400-1578576600@cretinclassof1963.org
SUMMARY:January Class Luncheon
DESCRIPTION:
URL:https://cretinclassof1963.org/event/january-class-luncheon/
LOCATION:Pool and Yacht Club\, 1600 Lilydale Road\, Lilydale\, MN\, 55118\, United States
END:VEVENT
BEGIN:VEVENT
DTSTART;TZID=America/Chicago:20191212T113000
DTEND;TZID=America/Chicago:20191212T133000
DTSTAMP:20260425T233347
CREATED:20191115T210805Z
LAST-MODIFIED:20191115T210805Z
UID:707-1576150200-1576157400@cretinclassof1963.org
SUMMARY:December Class of '63 Luncheon
DESCRIPTION:
URL:https://cretinclassof1963.org/event/december-class-of-63-luncheon/
LOCATION:Pool and Yacht Club\, 1600 Lilydale Road\, Lilydale\, MN\, 55118\, United States
END:VEVENT
BEGIN:VEVENT
DTSTART;TZID=America/Chicago:20191114T113000
DTEND;TZID=America/Chicago:20191114T133000
DTSTAMP:20260425T233347
CREATED:20191015T150233Z
LAST-MODIFIED:20191015T150233Z
UID:640-1573731000-1573738200@cretinclassof1963.org
SUMMARY:Cretin ‘63 Monthly Luncheon
DESCRIPTION:
URL:https://cretinclassof1963.org/event/cretin-63-monthly-luncheon/
LOCATION:Pool and Yacht Club\, 1600 Lilydale Road\, Lilydale\, MN\, 55118\, United States
END:VEVENT
BEGIN:VEVENT
DTSTART;TZID=America/Chicago:20191010T113000
DTEND;TZID=America/Chicago:20191010T133000
DTSTAMP:20260425T233347
CREATED:20190913T135507Z
LAST-MODIFIED:20190913T135507Z
UID:627-1570707000-1570714200@cretinclassof1963.org
SUMMARY:Cretin '63 Luncheon
DESCRIPTION:
URL:https://cretinclassof1963.org/event/cretin-63-luncheon-4/
LOCATION:Pool and Yacht Club\, 1600 Lilydale Road\, Lilydale\, MN\, 55118\, United States
END:VEVENT
END:VCALENDAR