BEGIN:VCALENDAR
VERSION:2.0
PRODID:-//Cretin Class of 1963 - ECPv6.15.18//NONSGML v1.0//EN
CALSCALE:GREGORIAN
METHOD:PUBLISH
X-WR-CALNAME:Cretin Class of 1963
X-ORIGINAL-URL:https://cretinclassof1963.org
X-WR-CALDESC:Events for Cretin Class of 1963
REFRESH-INTERVAL;VALUE=DURATION:PT1H
X-Robots-Tag:noindex
X-PUBLISHED-TTL:PT1H
BEGIN:VTIMEZONE
TZID:America/Chicago
BEGIN:DAYLIGHT
TZOFFSETFROM:-0600
TZOFFSETTO:-0500
TZNAME:CDT
DTSTART:20180311T080000
END:DAYLIGHT
BEGIN:STANDARD
TZOFFSETFROM:-0500
TZOFFSETTO:-0600
TZNAME:CST
DTSTART:20181104T070000
END:STANDARD
BEGIN:DAYLIGHT
TZOFFSETFROM:-0600
TZOFFSETTO:-0500
TZNAME:CDT
DTSTART:20190310T080000
END:DAYLIGHT
BEGIN:STANDARD
TZOFFSETFROM:-0500
TZOFFSETTO:-0600
TZNAME:CST
DTSTART:20191103T070000
END:STANDARD
BEGIN:DAYLIGHT
TZOFFSETFROM:-0600
TZOFFSETTO:-0500
TZNAME:CDT
DTSTART:20200308T080000
END:DAYLIGHT
BEGIN:STANDARD
TZOFFSETFROM:-0500
TZOFFSETTO:-0600
TZNAME:CST
DTSTART:20201101T070000
END:STANDARD
END:VTIMEZONE
BEGIN:VEVENT
DTSTART;TZID=America/Chicago:20191010T113000
DTEND;TZID=America/Chicago:20191010T133000
DTSTAMP:20260425T232102
CREATED:20190913T135507Z
LAST-MODIFIED:20190913T135507Z
UID:627-1570707000-1570714200@cretinclassof1963.org
SUMMARY:Cretin '63 Luncheon
DESCRIPTION:
URL:https://cretinclassof1963.org/event/cretin-63-luncheon-4/
LOCATION:Pool and Yacht Club\, 1600 Lilydale Road\, Lilydale\, MN\, 55118\, United States
END:VEVENT
BEGIN:VEVENT
DTSTART;TZID=America/Chicago:20190919T180000
DTEND;TZID=America/Chicago:20190919T210000
DTSTAMP:20260425T232102
CREATED:20190821T215314Z
LAST-MODIFIED:20190821T215314Z
UID:568-1568916000-1568926800@cretinclassof1963.org
SUMMARY:123rd Annual Cretin Alumni Banquet
DESCRIPTION:Keynote Speaker\nCasey O’Brien ’17\nMinnesota Football 2016 Courage Award\nFour-Time Cancer Survivor\nBig Ten Media Day Keynote Speaker\nProud Supporter of Cretin-Derham Hall  \nReservations\n$50 per Person\n$200 Purple Patron\n$300 Gold Patron  \nProceeds from Purple and Gold Patrons will benefit \nthe CDH Tuition Assistance Program.  \nREGISTER ONLINE TODAY \nRSVP Deadline: Wednesday\, September 11\, 2019 
URL:https://cretinclassof1963.org/event/123rd-annual-cretin-alumni-banquet/
LOCATION:Cretin-Derham Hall\, Joe Mauer Field House\, 550 S. Albert Street\, Saint Paul\, MN\, 55116\, United States
END:VEVENT
BEGIN:VEVENT
DTSTART;TZID=America/Chicago:20190912T113000
DTEND;TZID=America/Chicago:20190912T133000
DTSTAMP:20260425T232102
CREATED:20190809T145141Z
LAST-MODIFIED:20190809T145250Z
UID:532-1568287800-1568295000@cretinclassof1963.org
SUMMARY:Cretin '63 Luncheon
DESCRIPTION:
URL:https://cretinclassof1963.org/event/cretin-63-luncheon-3/
LOCATION:Pool and Yacht Club\, 1600 Lilydale Road\, Lilydale\, MN\, 55118\, United States
END:VEVENT
BEGIN:VEVENT
DTSTART;TZID=America/Chicago:20190808T113000
DTEND;TZID=America/Chicago:20190808T133000
DTSTAMP:20260425T232102
CREATED:20190607T224014Z
LAST-MODIFIED:20190628T203507Z
UID:352-1565263800-1565271000@cretinclassof1963.org
SUMMARY:Cretin '63 Lunch at Bonfe's
DESCRIPTION:As with the last several years George Bonfe will be hosting our luncheon at his home on Forest Lake   Hope to have several out-of-town alumni at the event.   Details to follow in an email.
URL:https://cretinclassof1963.org/event/cretin-63-lunch-at-bonfes/
LOCATION:MN
END:VEVENT
BEGIN:VEVENT
DTSTART;TZID=America/Chicago:20190807T113000
DTEND;TZID=America/Chicago:20190807T180000
DTSTAMP:20260425T232102
CREATED:20190607T003115Z
LAST-MODIFIED:20190625T175519Z
UID:331-1565177400-1565200800@cretinclassof1963.org
SUMMARY:"The Charlie" Golf Outing
DESCRIPTION:The 6th annual Charlie golf outing will be held on Wednesday August 7th at River Oaks Golf Course.  This annual outing remembers our classmate Charles E. Schuldt\, an avid golfer. As we get nearer the date Dave Britz will have more details and asign up sheet. A separate email will be sent to all from Tom Troskey with Dave Britz’s contact information….\n\n 
URL:https://cretinclassof1963.org/event/the-charlie-golf-outing/
LOCATION:River Oaks Golf Course\, 11099 Highway 61\, Cottage Grove\, MN\, 55016\, United States
END:VEVENT
BEGIN:VEVENT
DTSTART;TZID=America/Chicago:20190725T080000
DTEND;TZID=America/Chicago:20190728T170000
DTSTAMP:20260425T232102
CREATED:20190712T203952Z
LAST-MODIFIED:20190712T213529Z
UID:496-1564041600-1564333200@cretinclassof1963.org
SUMMARY:"The Wall That Heals"  coming to Stillwater
DESCRIPTION:A replica of the Vietnam Veterans Memorial will be hosted by the Fraternal Order of Eagles in Stillwater Minnesota on July 25-28\, 2019.  Click here for their events page.
URL:https://cretinclassof1963.org/event/the-wall-that-heals-coming-to-stillwater/
LOCATION:The Old Athletic Field\, 1338 4th Avenue South\, Stillwater\, MN\, United States
END:VEVENT
BEGIN:VEVENT
DTSTART;TZID=America/Chicago:20190711T113000
DTEND;TZID=America/Chicago:20190711T133000
DTSTAMP:20260425T232102
CREATED:20190607T222640Z
LAST-MODIFIED:20190608T000403Z
UID:350-1562844600-1562851800@cretinclassof1963.org
SUMMARY:Cretin '63 Luncheon
DESCRIPTION:
URL:https://cretinclassof1963.org/event/cretin-63-luncheon-2/
LOCATION:Pool and Yacht Club\, 1600 Lilydale Road\, Lilydale\, MN\, 55118\, United States
END:VEVENT
BEGIN:VEVENT
DTSTART;TZID=America/Chicago:20190613T113000
DTEND;TZID=America/Chicago:20190613T133000
DTSTAMP:20260425T232102
CREATED:20190607T001553Z
LAST-MODIFIED:20190608T000551Z
UID:326-1560425400-1560432600@cretinclassof1963.org
SUMMARY:Cretin '63 Luncheon
DESCRIPTION:
URL:https://cretinclassof1963.org/event/cretin-63-luncheon/
LOCATION:Pool and Yacht Club\, 1600 Lilydale Road\, Lilydale\, MN\, 55118\, United States
END:VEVENT
END:VCALENDAR